BEGIN:VCALENDAR
VERSION:2.0
PRODID:-//Relentless Church - ECPv6.14.0//NONSGML v1.0//EN
CALSCALE:GREGORIAN
METHOD:PUBLISH
X-ORIGINAL-URL:https://relentlesschurch.cc
X-WR-CALDESC:Events for Relentless Church
REFRESH-INTERVAL;VALUE=DURATION:PT1H
X-Robots-Tag:noindex
X-PUBLISHED-TTL:PT1H
BEGIN:VTIMEZONE
TZID:America/New_York
BEGIN:DAYLIGHT
TZOFFSETFROM:-0500
TZOFFSETTO:-0400
TZNAME:EDT
DTSTART:20250309T070000
END:DAYLIGHT
BEGIN:STANDARD
TZOFFSETFROM:-0400
TZOFFSETTO:-0500
TZNAME:EST
DTSTART:20251102T060000
END:STANDARD
END:VTIMEZONE
BEGIN:VEVENT
DTSTART;TZID=America/New_York:20250518T090000
DTEND;TZID=America/New_York:20250518T110000
DTSTAMP:20260421T074710
CREATED:20250505T105035Z
LAST-MODIFIED:20250505T105256Z
UID:6232-1747558800-1747566000@relentlesschurch.cc
SUMMARY:Child Dedication
DESCRIPTION:On May 18th\, we’ll have Child Dedication during service. Child Dedication is a special time that represents a commitment on your part to raise your kids up “in the training and instruction of the Lord” (Eph. 6:4)\, and a commitment on the part of the church to support you in that effort! Child Dedication is not a Baptism. We believe children should make that decision themselves. Parents can\, however\, lay that foundation by modeling the love of Christ and introducing them to His Word which will help their children prepare to make that decision when the time comes. \nIf you would like to have your child dedicated\, please Sign-Up Here
URL:https://relentlesschurch.cc/event/child-dedication-may-18/
LOCATION:Relentless Church\, 1540 Mechanical Blvd\, Garner\, 27526\, United States
CATEGORIES:Worship
ATTACH;FMTTYPE=image/png:https://relentlesschurch.cc/wp-content/uploads/2025/05/Child-Dedication.png
END:VEVENT
END:VCALENDAR